BEGIN:VCALENDAR
VERSION:2.0
CREATED:20260420T213204Z
PRODID:-//Barrett Business Services\, Inc./Equisolve Calendar v1.0//EN
METHOD:PUBLISH
BEGIN:VEVENT
UID:f8f182bdd9e0f36a9df7be7836ccc17f
DTSTAMP:20260423T085955Z
DTSTART:20260601T200000Z
DTEND:20260601T210000Z
SUMMARY:2026 Annual Meeting of Stockholders
DESCRIPTION:2026 Annual Meeting of Stockholders\n\nDate: Jun 1\, 2026 1:00 pm PDT\n\nWebcast: https://central.virtualshareholdermeeting.com/vsm/web?pvskey=BBSI2026
END:VEVENT
END:VCALENDAR
