BEGIN:VCALENDAR
VERSION:2.0
CREATED:20260422T203550Z
PRODID:-//Barrett Business Services\, Inc./Equisolve Calendar v1.0//EN
METHOD:PUBLISH
BEGIN:VEVENT
UID:58a7a74f99d4b3cbb5e30e1b80c12916
DTSTAMP:20260423T103408Z
DTSTART:20260506T210000Z
DTEND:20260506T220000Z
SUMMARY:Q1 2026 BBSI Earnings Conference Call
DESCRIPTION:Q1 2026 BBSI Earnings Conference Call\n\nDate: May 6\, 2026 5:00 pm EDT\n\nWebcast: https://viavid.webcasts.com/starthere.jsp?ei=1757161&tp_key=05aba84503
END:VEVENT
END:VCALENDAR
